BEGIN:VCALENDAR
VERSION:2.0
PRODID:-//SPRJ - ECPv6.15.20//NONSGML v1.0//EN
CALSCALE:GREGORIAN
METHOD:PUBLISH
X-WR-CALNAME:SPRJ
X-ORIGINAL-URL:https://sprj.org.br/site
X-WR-CALDESC:Eventos para SPRJ
REFRESH-INTERVAL;VALUE=DURATION:PT1H
X-Robots-Tag:noindex
X-PUBLISHED-TTL:PT1H
BEGIN:VTIMEZONE
TZID:America/Sao_Paulo
BEGIN:STANDARD
TZOFFSETFROM:-0300
TZOFFSETTO:-0300
TZNAME:-03
DTSTART:20230101T000000
END:STANDARD
END:VTIMEZONE
BEGIN:VEVENT
DTSTART;TZID=America/Sao_Paulo:20260325T080000
DTEND;TZID=America/Sao_Paulo:20260325T170000
DTSTAMP:20260423T222924
CREATED:20260325T215046Z
LAST-MODIFIED:20260325T215046Z
UID:8730-1774425600-1774458000@sprj.org.br
SUMMARY:Teoria e Clínica de Lacan
DESCRIPTION:
URL:https://sprj.org.br/site/event/teoria-e-clinica-de-lacan/
ATTACH;FMTTYPE=image/jpeg:https://sprj.org.br/site/wp-content/uploads/2026/03/teoria_01.jpeg
END:VEVENT
BEGIN:VEVENT
DTSTART;TZID=America/Sao_Paulo:20250913T090000
DTEND;TZID=America/Sao_Paulo:20250913T130000
DTSTAMP:20260423T222924
CREATED:20250804T184804Z
LAST-MODIFIED:20250812T221804Z
UID:7778-1757754000-1757768400@sprj.org.br
SUMMARY:Observação de Bebês - Método Esther Bick
DESCRIPTION:
URL:https://sprj.org.br/site/event/observacao-de-bebes-metodo-esther-bick/
ATTACH;FMTTYPE=image/jpeg:https://sprj.org.br/site/wp-content/uploads/2025/08/observacao_mae_01.jpeg
END:VEVENT
BEGIN:VEVENT
DTSTART;TZID=America/Sao_Paulo:20250829T180000
DTEND;TZID=America/Sao_Paulo:20250829T203000
DTSTAMP:20260423T222924
CREATED:20250804T184603Z
LAST-MODIFIED:20250804T184603Z
UID:7773-1756490400-1756499400@sprj.org.br
SUMMARY:Reflexões Psicanalíticas Sobre Obra Literária
DESCRIPTION:
URL:https://sprj.org.br/site/event/reflexoes-psicanaliticas-sobre-obra-literaria-5/
ATTACH;FMTTYPE=image/jpeg:https://sprj.org.br/site/wp-content/uploads/2025/08/WhatsApp-Image-2025-07-30-at-15.44.43.jpeg
END:VEVENT
BEGIN:VEVENT
DTSTART;TZID=America/Sao_Paulo:20250823T100000
DTEND;TZID=America/Sao_Paulo:20250823T120000
DTSTAMP:20260423T222924
CREATED:20250701T171046Z
LAST-MODIFIED:20250701T171046Z
UID:7187-1755943200-1755950400@sprj.org.br
SUMMARY:A pessoa do Analista: uma obra em construção
DESCRIPTION:Valores: \nMembros SPRJ: R$ 40\,00\nCandidatos SPRJ: Gratuito\nMembros FEBRAPSI\, FEPAL e IPA: R$50\,00\nEstudantes e Candidatos ABC\, IPSO e OCAL: R$ 30\,00\nProfissionais: R$70\,00
URL:https://sprj.org.br/site/event/a-pessoa-do-analista-uma-obra-em-construcao/
LOCATION:Hibrido\, RUa Fernandes Guimaraes\, 92\, Rio de Janeiro\, RJ\, 22290000\, Brazil
ATTACH;FMTTYPE=image/jpeg:https://sprj.org.br/site/wp-content/uploads/2025/07/pessoa_Analista.jpeg
END:VEVENT
BEGIN:VEVENT
DTSTART;TZID=America/Sao_Paulo:20250812T203000
DTEND;TZID=America/Sao_Paulo:20251125T220000
DTSTAMP:20260423T222924
CREATED:20241213T221314Z
LAST-MODIFIED:20250717T204948Z
UID:4761-1755030600-1764108000@sprj.org.br
SUMMARY:Ao Freud - 2025 | O cotidiano do Ics
DESCRIPTION:
URL:https://sprj.org.br/site/event/ao-freud-2025-a-clinica/
ATTACH;FMTTYPE=image/jpeg:https://sprj.org.br/site/wp-content/uploads/2024/12/WhatsApp-Image-2025-07-17-at-16.28.50.jpeg
END:VEVENT
BEGIN:VEVENT
DTSTART;TZID=America/Sao_Paulo:20250809T093000
DTEND;TZID=America/Sao_Paulo:20250809T130000
DTSTAMP:20260423T222924
CREATED:20250313T220736Z
LAST-MODIFIED:20250325T125534Z
UID:4808-1754731800-1754744400@sprj.org.br
SUMMARY:Clínica Psicanalítica Contemporânea
DESCRIPTION:
URL:https://sprj.org.br/site/event/clinica-psicanalitica-contemporanea-4/
ATTACH;FMTTYPE=image/jpeg:https://sprj.org.br/site/wp-content/uploads/2025/03/WhatsApp-Image-2025-03-21-at-20.48.56.jpeg
END:VEVENT
BEGIN:VEVENT
DTSTART;TZID=America/Sao_Paulo:20250711T153000
DTEND;TZID=America/Sao_Paulo:20251128T170000
DTSTAMP:20260423T222924
CREATED:20250108T120854Z
LAST-MODIFIED:20250701T164456Z
UID:4766-1752247800-1764349200@sprj.org.br
SUMMARY:A Escuta Psicanalítica na teoria e na práticca 2025
DESCRIPTION:
URL:https://sprj.org.br/site/event/a-escuta-psicanalitica-na-teoria-e-na-praticca-2025/
ATTACH;FMTTYPE=image/jpeg:https://sprj.org.br/site/wp-content/uploads/2025/01/escuta_01.jpeg
END:VEVENT
BEGIN:VEVENT
DTSTART;TZID=America/Sao_Paulo:20250705T090000
DTEND;TZID=America/Sao_Paulo:20250705T130000
DTSTAMP:20260423T222924
CREATED:20250515T144048Z
LAST-MODIFIED:20250521T124843Z
UID:6379-1751706000-1751720400@sprj.org.br
SUMMARY:30º Congresso Brasileiro de Psicanálise - Evento preparatório
DESCRIPTION:
URL:https://sprj.org.br/site/event/30o-congresso-brasileiro-de-psicanalise-evento-preparatorio/
ATTACH;FMTTYPE=image/jpeg:https://sprj.org.br/site/wp-content/uploads/2025/05/sexualidade_01.jpeg
END:VEVENT
BEGIN:VEVENT
DTSTART;TZID=America/Sao_Paulo:20250702T080000
DTEND;TZID=America/Sao_Paulo:20250702T170000
DTSTAMP:20260423T222924
CREATED:20250702T214126Z
LAST-MODIFIED:20250702T214126Z
UID:7190-1751443200-1751475600@sprj.org.br
SUMMARY:Reflexões Psicanalíticas Sobre Obra Literária
DESCRIPTION:
URL:https://sprj.org.br/site/event/reflexoes-psicanaliticas-sobre-obra-literaria-4/
ATTACH;FMTTYPE=image/jpeg:https://sprj.org.br/site/wp-content/uploads/2025/07/Reflexoes.jpeg
END:VEVENT
BEGIN:VEVENT
DTSTART;TZID=America/Sao_Paulo:20250614T090000
DTEND;TZID=America/Sao_Paulo:20250614T153000
DTSTAMP:20260423T222924
CREATED:20250412T120719Z
LAST-MODIFIED:20250416T165907Z
UID:5210-1749891600-1749915000@sprj.org.br
SUMMARY:Identificação: imanência de um conceito
DESCRIPTION:
URL:https://sprj.org.br/site/event/identificacao-imanencia-de-um-conceito/
LOCATION:Sede da SPRJ\, RUa Fernandes Guimaraes\, 92\, Rio de Janeiro\, RJ\, 22290000\, Brazil
ATTACH;FMTTYPE=image/jpeg:https://sprj.org.br/site/wp-content/uploads/2025/04/WhatsApp-Image-2025-04-14-at-08.49.32.jpeg
END:VEVENT
BEGIN:VEVENT
DTSTART;TZID=America/Sao_Paulo:20250607T093000
DTEND;TZID=America/Sao_Paulo:20250607T130000
DTSTAMP:20260423T222924
CREATED:20250313T220542Z
LAST-MODIFIED:20250325T125552Z
UID:4804-1749288600-1749301200@sprj.org.br
SUMMARY:Clínica Psicanalítica Contemporânea
DESCRIPTION:
URL:https://sprj.org.br/site/event/clinica-psicanalitica-contemporanea-3/
ATTACH;FMTTYPE=image/jpeg:https://sprj.org.br/site/wp-content/uploads/2025/03/WhatsApp-Image-2025-03-21-at-20.48.56.jpeg
END:VEVENT
BEGIN:VEVENT
DTSTART;TZID=America/Sao_Paulo:20250530T180000
DTEND;TZID=America/Sao_Paulo:20250530T203000
DTSTAMP:20260423T222924
CREATED:20250505T133638Z
LAST-MODIFIED:20250505T133638Z
UID:6002-1748628000-1748637000@sprj.org.br
SUMMARY:Reflexões Psicanalíticas Sobre Obras Literárias
DESCRIPTION:
URL:https://sprj.org.br/site/event/reflexoes-psicanaliticas-sobre-obras-literarias/
ATTACH;FMTTYPE=image/jpeg:https://sprj.org.br/site/wp-content/uploads/2025/05/Reflexoes-psicanaliticas.jpg
END:VEVENT
BEGIN:VEVENT
DTSTART;TZID=America/Sao_Paulo:20250530T180000
DTEND;TZID=America/Sao_Paulo:20250530T200000
DTSTAMP:20260423T222924
CREATED:20250517T194251Z
LAST-MODIFIED:20250517T194251Z
UID:6386-1748628000-1748635200@sprj.org.br
SUMMARY:Surrealismo e Psicanálise: uma conversa\, uma exposição
DESCRIPTION:
URL:https://sprj.org.br/site/event/surrealismo-e-psicanalise-uma-conversa-uma-exposicao/
ATTACH;FMTTYPE=image/jpeg:https://sprj.org.br/site/wp-content/uploads/2025/05/Surrealismo.jpeg
END:VEVENT
BEGIN:VEVENT
DTSTART;TZID=America/Sao_Paulo:20250517T093000
DTEND;TZID=America/Sao_Paulo:20250517T113000
DTSTAMP:20260423T222924
CREATED:20250325T125921Z
LAST-MODIFIED:20250325T130035Z
UID:4860-1747474200-1747481400@sprj.org.br
SUMMARY:Reflexões sobre a Bissexualidade Psíquica
DESCRIPTION:
URL:https://sprj.org.br/site/event/reflexoes-sobre-a-bissexualidade-psiquica/
ATTACH;FMTTYPE=image/jpeg:https://sprj.org.br/site/wp-content/uploads/2025/03/reflexoes_Bissec.jpeg
END:VEVENT
BEGIN:VEVENT
DTSTART;TZID=America/Sao_Paulo:20250510T093000
DTEND;TZID=America/Sao_Paulo:20250510T130000
DTSTAMP:20260423T222924
CREATED:20250313T220344Z
LAST-MODIFIED:20250325T125611Z
UID:4801-1746869400-1746882000@sprj.org.br
SUMMARY:Clínica Psicanalítica Contemporânea
DESCRIPTION:
URL:https://sprj.org.br/site/event/clinica-psicanalitica-contemporanea-2/
ATTACH;FMTTYPE=image/jpeg:https://sprj.org.br/site/wp-content/uploads/2025/03/WhatsApp-Image-2025-03-21-at-20.48.56.jpeg
END:VEVENT
BEGIN:VEVENT
DTSTART;TZID=America/Sao_Paulo:20250425T180000
DTEND;TZID=America/Sao_Paulo:20250425T203000
DTSTAMP:20260423T222924
CREATED:20250402T121639Z
LAST-MODIFIED:20250402T121639Z
UID:4985-1745604000-1745613000@sprj.org.br
SUMMARY:Reflexões Psicanalíticas
DESCRIPTION:
URL:https://sprj.org.br/site/event/reflexoes-psicanaliticas/
LOCATION:online
ATTACH;FMTTYPE=image/jpeg:https://sprj.org.br/site/wp-content/uploads/2025/04/Reflexoes_Psicanaliticas.jpeg
ORGANIZER;CN="SPRJ - Biblioteca W. W. Kemper":MAILTO:sprj.rio1@sprj.org.br
END:VEVENT
BEGIN:VEVENT
DTSTART;TZID=America/Sao_Paulo:20250412T100000
DTEND;TZID=America/Sao_Paulo:20250412T120000
DTSTAMP:20260423T222924
CREATED:20250212T094802Z
LAST-MODIFIED:20250325T125430Z
UID:4783-1744452000-1744459200@sprj.org.br
SUMMARY:Racismo: uma questão para a psicanálise
DESCRIPTION:
URL:https://sprj.org.br/site/event/racismo-uma-questao-para-a-psicanalise/
LOCATION:online
ATTACH;FMTTYPE=image/jpeg:https://sprj.org.br/site/wp-content/uploads/2025/03/racismo_atualizado.jpeg
END:VEVENT
BEGIN:VEVENT
DTSTART;TZID=America/Sao_Paulo:20250405T093000
DTEND;TZID=America/Sao_Paulo:20250405T130000
DTSTAMP:20260423T222924
CREATED:20250313T220126Z
LAST-MODIFIED:20250325T125725Z
UID:4797-1743845400-1743858000@sprj.org.br
SUMMARY:Clínica Psicanalítica Contemporânea
DESCRIPTION:
URL:https://sprj.org.br/site/event/clinica-psicanalitica-contemporanea/
ATTACH;FMTTYPE=image/jpeg:https://sprj.org.br/site/wp-content/uploads/2025/03/WhatsApp-Image-2025-03-21-at-20.48.56.jpeg
END:VEVENT
BEGIN:VEVENT
DTSTART;TZID=America/Sao_Paulo:20250328T180000
DTEND;TZID=America/Sao_Paulo:20250328T200000
DTSTAMP:20260423T222924
CREATED:20250221T113022Z
LAST-MODIFIED:20250221T113022Z
UID:4792-1743184800-1743192000@sprj.org.br
SUMMARY:Reflexões Psicanalíticas Sobre Obra LIterária
DESCRIPTION:
URL:https://sprj.org.br/site/event/reflexoes-psicanaliticas-sobre-obra-literaria-3/
LOCATION:online
ATTACH;FMTTYPE=image/jpeg:https://sprj.org.br/site/wp-content/uploads/2025/02/Reflexoes-psicanaliticas.jpeg
ORGANIZER;CN="SPRJ - Biblioteca W. W. Kemper":MAILTO:sprj.rio1@sprj.org.br
END:VEVENT
BEGIN:VEVENT
DTSTART;TZID=America/Sao_Paulo:20250322T090000
DTEND;TZID=America/Sao_Paulo:20250322T124500
DTSTAMP:20260423T222924
CREATED:20250120T190023Z
LAST-MODIFIED:20250120T190023Z
UID:4773-1742634000-1742647500@sprj.org.br
SUMMARY:Sexualidade em Trãnsito: entre o feminino e o masculino
DESCRIPTION:
URL:https://sprj.org.br/site/event/sexualidade-em-transito-entre-o-feminino-e-o-masculino/
ATTACH;FMTTYPE=image/jpeg:https://sprj.org.br/site/wp-content/uploads/2025/01/sexualidade-em-transito.jpeg
END:VEVENT
BEGIN:VEVENT
DTSTART;TZID=America/Sao_Paulo:20250314T190000
DTEND;TZID=America/Sao_Paulo:20250314T203000
DTSTAMP:20260423T222924
CREATED:20250206T140025Z
LAST-MODIFIED:20250206T140025Z
UID:4778-1741978800-1741984200@sprj.org.br
SUMMARY:Aula Inaugural - Intimidade e Ética nas Instituições
DESCRIPTION:
URL:https://sprj.org.br/site/event/aula-inaugural-intimidade-e-etica-nas-instituicoes/
LOCATION:Hibrido\, RUa Fernandes Guimaraes\, 92\, Rio de Janeiro\, RJ\, 22290000\, Brazil
ATTACH;FMTTYPE=image/jpeg:https://sprj.org.br/site/wp-content/uploads/2025/02/Intimidade-e-etica.jpeg
ORGANIZER;CN="IEP":MAILTO:sprj.rio1@sprj.org.br
END:VEVENT
BEGIN:VEVENT
DTSTART;TZID=America/Sao_Paulo:20250206T200000
DTEND;TZID=America/Sao_Paulo:20250206T220000
DTSTAMP:20260423T222924
CREATED:20241106T192440Z
LAST-MODIFIED:20250114T162651Z
UID:4740-1738872000-1738879200@sprj.org.br
SUMMARY:Teoria do Pensar em Bion -6ª aula
DESCRIPTION:Próximas aulas:\n05/12 – 7ª aula\n02/01 – recesso\n06/02 – 8ª aula
URL:https://sprj.org.br/site/event/teoria-do-pensar-em-bion-6a-aula/
ATTACH;FMTTYPE=image/jpeg:https://sprj.org.br/site/wp-content/uploads/2024/11/bion.jpeg
END:VEVENT
BEGIN:VEVENT
DTSTART;TZID=America/Sao_Paulo:20241129T180000
DTEND;TZID=America/Sao_Paulo:20241129T200000
DTSTAMP:20260423T222924
CREATED:20241002T131824Z
LAST-MODIFIED:20241106T190857Z
UID:4725-1732903200-1732910400@sprj.org.br
SUMMARY:Reflexões Psicanalíticas Sobre Obra Literária
DESCRIPTION:
URL:https://sprj.org.br/site/event/reflexoes-psicanaliticas-sobre-obra-literaria-2/
LOCATION:online
ATTACH;FMTTYPE=image/jpeg:https://sprj.org.br/site/wp-content/uploads/2024/10/Cartaz-Reflexoes-Novembro-2024.jpeg
ORGANIZER;CN="SPRJ":MAILTO:sprj.rio1@sprj.org.br
END:VEVENT
BEGIN:VEVENT
DTSTART;TZID=America/Sao_Paulo:20241123T100000
DTEND;TZID=America/Sao_Paulo:20241123T120000
DTSTAMP:20260423T222924
CREATED:20241025T175736Z
LAST-MODIFIED:20241025T175736Z
UID:4733-1732356000-1732363200@sprj.org.br
SUMMARY:Orientação para o uso do PEP
DESCRIPTION:
URL:https://sprj.org.br/site/event/orientacao-para-o-uso-do-pep/
LOCATION:online
ATTACH;FMTTYPE=image/jpeg:https://sprj.org.br/site/wp-content/uploads/2024/10/Orientacao_IEP.jpeg
ORGANIZER;CN="SPRJ":MAILTO:sprj.rio1@sprj.org.br
END:VEVENT
BEGIN:VEVENT
DTSTART;TZID=America/Sao_Paulo:20241109T090000
DTEND;TZID=America/Sao_Paulo:20241109T120000
DTSTAMP:20260423T222924
CREATED:20241003T222732Z
LAST-MODIFIED:20241105T123909Z
UID:4728-1731142800-1731153600@sprj.org.br
SUMMARY:Jornada Internacional - Entre bebês e adolescentes - Uma dinâmica de mão dupla
DESCRIPTION:Os valores do evento estão detalhados no cartaz(de R$ 70\,00 a R$ 150\,00)
URL:https://sprj.org.br/site/event/jornada-internacional-entre-bebes-e-adolescentes-uma-dinamica-de-mao-dupla/
LOCATION:online
ATTACH;FMTTYPE=image/jpeg:https://sprj.org.br/site/wp-content/uploads/2024/10/Jornada-Internacional.jpeg
ORGANIZER;CN="SPRJ":MAILTO:sprj.rio1@sprj.org.br
END:VEVENT
BEGIN:VEVENT
DTSTART;TZID=America/Sao_Paulo:20241025T180000
DTEND;TZID=America/Sao_Paulo:20241025T203000
DTSTAMP:20260423T222924
CREATED:20240926T183713Z
LAST-MODIFIED:20240926T183713Z
UID:4719-1729879200-1729888200@sprj.org.br
SUMMARY:Ismael Nery: Uma conversa\, uma exposição
DESCRIPTION:
URL:https://sprj.org.br/site/event/ismael-nery-uma-conversa-uma-exposicao/
LOCATION:Sede da SPRJ\, RUa Fernandes Guimaraes\, 92\, Rio de Janeiro\, RJ\, 22290000\, Brazil
ATTACH;FMTTYPE=image/jpeg:https://sprj.org.br/site/wp-content/uploads/2024/09/ismael-Nery.jpeg
ORGANIZER;CN="SPRJ":MAILTO:sprj.rio1@sprj.org.br
END:VEVENT
BEGIN:VEVENT
DTSTART;TZID=America/Sao_Paulo:20240928T084500
DTEND;TZID=America/Sao_Paulo:20240928T130000
DTSTAMP:20260423T222924
CREATED:20240912T175615Z
LAST-MODIFIED:20240912T175627Z
UID:4710-1727513100-1727528400@sprj.org.br
SUMMARY:Prata da Casa - 2 Edição
DESCRIPTION:
URL:https://sprj.org.br/site/event/prata-da-casa-2-edicao/
LOCATION:Hibrido\, RUa Fernandes Guimaraes\, 92\, Rio de Janeiro\, RJ\, 22290000\, Brazil
ATTACH;FMTTYPE=image/jpeg:https://sprj.org.br/site/wp-content/uploads/2024/08/prata-da-casa.jpeg
ORGANIZER;CN="SPRJ":MAILTO:sprj.rio1@sprj.org.br
END:VEVENT
BEGIN:VEVENT
DTSTART;TZID=America/Sao_Paulo:20240927T180000
DTEND;TZID=America/Sao_Paulo:20240927T193000
DTSTAMP:20260423T222924
CREATED:20240908T181705Z
LAST-MODIFIED:20240908T184507Z
UID:4699-1727460000-1727465400@sprj.org.br
SUMMARY:Reflexões Psicanalíticas Sobre Obra Literária
DESCRIPTION:
URL:https://sprj.org.br/site/event/reflexoes-psicanaliticas-sobre-obra-literaria/
LOCATION:online
ATTACH;FMTTYPE=image/jpeg:https://sprj.org.br/site/wp-content/uploads/2024/09/reflexoes-2.jpeg
ORGANIZER;CN="SPRJ - Biblioteca W. W. Kemper":MAILTO:sprj.rio1@sprj.org.br
END:VEVENT
BEGIN:VEVENT
DTSTART;TZID=America/Sao_Paulo:20240921T100000
DTEND;TZID=America/Sao_Paulo:20240921T120000
DTSTAMP:20260423T222924
CREATED:20240912T175028Z
LAST-MODIFIED:20240912T175028Z
UID:4708-1726912800-1726920000@sprj.org.br
SUMMARY:Preconceitos\, Discriminação e Racismo
DESCRIPTION:
URL:https://sprj.org.br/site/event/preconceitos-discriminacao-e-racismo/
ATTACH;FMTTYPE=image/jpeg:https://sprj.org.br/site/wp-content/uploads/2024/08/Preconceitos-1.jpeg
ORGANIZER;CN="SPRJ":MAILTO:sprj.rio1@sprj.org.br
END:VEVENT
BEGIN:VEVENT
DTSTART;TZID=America/Sao_Paulo:20240914T100000
DTEND;TZID=America/Sao_Paulo:20240914T123000
DTSTAMP:20260423T222924
CREATED:20240912T174427Z
LAST-MODIFIED:20240912T174427Z
UID:4705-1726308000-1726317000@sprj.org.br
SUMMARY:1 Encontro sobre Ética - Reflexão da importância da ética psicanalítica
DESCRIPTION:
URL:https://sprj.org.br/site/event/1-encontro-sobre-etica-reflexao-da-importancia-da-etica-psicanalitica/
LOCATION:online
ATTACH;FMTTYPE=image/jpeg:https://sprj.org.br/site/wp-content/uploads/2024/08/etica_2.jpeg
ORGANIZER;CN="SPRJ":MAILTO:sprj.rio1@sprj.org.br
END:VEVENT
END:VCALENDAR