BEGIN:VCALENDAR
VERSION:2.0
PRODID:-//SPRJ - ECPv6.15.20//NONSGML v1.0//EN
CALSCALE:GREGORIAN
METHOD:PUBLISH
X-ORIGINAL-URL:https://sprj.org.br/site
X-WR-CALDESC:Eventos para SPRJ
REFRESH-INTERVAL;VALUE=DURATION:PT1H
X-Robots-Tag:noindex
X-PUBLISHED-TTL:PT1H
BEGIN:VTIMEZONE
TZID:America/Sao_Paulo
BEGIN:STANDARD
TZOFFSETFROM:-0300
TZOFFSETTO:-0300
TZNAME:-03
DTSTART:20240101T000000
END:STANDARD
END:VTIMEZONE
BEGIN:VEVENT
DTSTART;TZID=America/Sao_Paulo:20250711T153000
DTEND;TZID=America/Sao_Paulo:20251128T170000
DTSTAMP:20260425T081324
CREATED:20250108T120854Z
LAST-MODIFIED:20250701T164456Z
UID:4766-1752247800-1764349200@sprj.org.br
SUMMARY:A Escuta Psicanalítica na teoria e na práticca 2025
DESCRIPTION:
URL:https://sprj.org.br/site/event/a-escuta-psicanalitica-na-teoria-e-na-praticca-2025/
ATTACH;FMTTYPE=image/jpeg:https://sprj.org.br/site/wp-content/uploads/2025/01/escuta_01.jpeg
END:VEVENT
END:VCALENDAR